BEGIN:VCALENDAR
VERSION:2.0
PRODID:-//wp-events-plugin.com//7.2.3.1//EN
TZID:Europe/Berlin
X-WR-TIMEZONE:Europe/Berlin
BEGIN:VEVENT
UID:5772@moin-kirche.de
DTSTART;TZID=Europe/Berlin:20260416T193000
DTEND;TZID=Europe/Berlin:20260416T193000
DTSTAMP:20251128T140512Z
URL:https://www.moin-kirche.de/veranstaltungen/zag-2/
SUMMARY:ZAG
DESCRIPTION:Die Zukunfts-AG Seliger Hermann Lange hat 2025 zu den 4 Schwerp
 unkten des Leitbildes gearbeitet. Für 2026 steht die Konkretisierung und 
 die Vorbereitung für eine Gemeindeversammlung im Mittelpunkt. Dazu sind S
 ie alle herzlich eingeladen mitzumachen!
ATTACH;FMTTYPE=image/jpeg:https://www.moin-kirche.de/wp-content/uploads/20
 25/11/glaskreuz_by_Christiane_Raabe_pfarrbriefservice.jpg
CATEGORIES:Empfehlung,Gruppen/Gremien
LOCATION:Hermann-Lange-Haus Leer\, Saarstraße 15\, Leer\, 26789\, Deutschl
 and
X-APPLE-STRUCTURED-LOCATION;VALUE=URI;X-ADDRESS=Saarstraße 15\, Leer\, 267
 89\, Deutschland;X-APPLE-RADIUS=100;X-TITLE=Hermann-Lange-Haus Leer:geo:0,
 0
END:VEVENT
BEGIN:VTIMEZONE
TZID:Europe/Berlin
X-LIC-LOCATION:Europe/Berlin
BEGIN:DAYLIGHT
DTSTART:20260329T030000
TZOFFSETFROM:+0100
TZOFFSETTO:+0200
TZNAME:CEST
END:DAYLIGHT
END:VTIMEZONE
END:VCALENDAR