BEGIN:VCALENDAR
VERSION:2.0
PRODID:-//wp-events-plugin.com//7.2.3.1//EN
TZID:Europe/Berlin
X-WR-TIMEZONE:Europe/Berlin
BEGIN:VEVENT
UID:1252@moin-kirche.de
DTSTART;TZID=Europe/Berlin:20230423T190000
DTEND;TZID=Europe/Berlin:20230423T190000
DTSTAMP:20230412T084515Z
URL:https://www.moin-kirche.de/veranstaltungen/taizegebet-anschl-teetafel/
SUMMARY:Taize´Gebet\, anschl. Teetafel
DESCRIPTION:	
CATEGORIES:Sonstige Gottesdienste
LOCATION:Dechant-Friese-Haus Weener\, Neue Straße 30\, Weener\, 26826\, De
 utschland
X-APPLE-STRUCTURED-LOCATION;VALUE=URI;X-ADDRESS=Neue Straße 30\, Weener\, 
 26826\, Deutschland;X-APPLE-RADIUS=100;X-TITLE=Dechant-Friese-Haus Weener:
 geo:0,0
END:VEVENT
BEGIN:VTIMEZONE
TZID:Europe/Berlin
X-LIC-LOCATION:Europe/Berlin
BEGIN:DAYLIGHT
DTSTART:20230326T030000
TZOFFSETFROM:+0100
TZOFFSETTO:+0200
TZNAME:CEST
END:DAYLIGHT
END:VTIMEZONE
END:VCALENDAR