BEGIN:VCALENDAR
VERSION:2.0
PRODID:-//wp-events-plugin.com//7.2.3.1//EN
TZID:Europe/Berlin
X-WR-TIMEZONE:Europe/Berlin
BEGIN:VEVENT
UID:5875@moin-kirche.de
DTSTART;TZID=Europe/Berlin:20260315T183000
DTEND;TZID=Europe/Berlin:20260315T183000
DTSTAMP:20260226T051009Z
URL:https://www.moin-kirche.de/veranstaltungen/taize-friedensgebet-2/
SUMMARY:Taizé-Friedensgebet
DESCRIPTION:Der Chor Good News lädt herzlich zum Taizé-Friedensgebet mit 
 Texten und Liedern zum Nachdenken\, Mitbeten und Mitsingen ein!\n\nDas Tai
 zé-Gebet findet im Gottesdienstraum der Winterkirche im Hermann-Lange-Hau
 s statt.\n\nAnschließend gibt es Tee und die Gelegenheit zum gemeinsamen 
 Austausch.\n\n
ATTACH;FMTTYPE=image/jpeg:https://www.moin-kirche.de/wp-content/uploads/20
 26/02/20260315-Taize-Gebet_Plakat_720x540.jpg
CATEGORIES:Empfehlung,Sonstige Gottesdienste
LOCATION:Hermann-Lange-Haus Leer\, Saarstraße 15\, Leer\, 26789\, Deutschl
 and
X-APPLE-STRUCTURED-LOCATION;VALUE=URI;X-ADDRESS=Saarstraße 15\, Leer\, 267
 89\, Deutschland;X-APPLE-RADIUS=100;X-TITLE=Hermann-Lange-Haus Leer:geo:0,
 0
END:VEVENT
BEGIN:VTIMEZONE
TZID:Europe/Berlin
X-LIC-LOCATION:Europe/Berlin
BEGIN:STANDARD
DTSTART:20251026T020000
TZOFFSETFROM:+0200
TZOFFSETTO:+0100
TZNAME:CET
END:STANDARD
END:VTIMEZONE
END:VCALENDAR