BEGIN:VCALENDAR
VERSION:2.0
PRODID:-//wp-events-plugin.com//7.2.3.1//EN
TZID:Europe/Berlin
X-WR-TIMEZONE:Europe/Berlin
BEGIN:VEVENT
UID:5865@moin-kirche.de
DTSTART;TZID=Europe/Berlin:20260514T100000
DTEND;TZID=Europe/Berlin:20260514T100000
DTSTAMP:20260215T191446Z
URL:https://www.moin-kirche.de/veranstaltungen/himmelfahrt-am-hafen/
SUMMARY:Himmelfahrt am Hafen
DESCRIPTION:Herzliche Einladung zum ökumensichen Gottesdienst\, traditione
 ll an Christi Himmelfahrt am Hafen in Ditzum!
ATTACH;FMTTYPE=image/jpeg:https://www.moin-kirche.de/wp-content/uploads/20
 21/04/himmelfahrt-am-hafen_2021.jpg
CATEGORIES:Empfehlung,Hl. Messe
LOCATION:Ditzum am Hafen\, Am Hafen 3\, Jemgum\, 26844\, Deutschland
X-APPLE-STRUCTURED-LOCATION;VALUE=URI;X-ADDRESS=Am Hafen 3\, Jemgum\, 26844
 \, Deutschland;X-APPLE-RADIUS=100;X-TITLE=Ditzum am Hafen:geo:0,0
END:VEVENT
BEGIN:VTIMEZONE
TZID:Europe/Berlin
X-LIC-LOCATION:Europe/Berlin
BEGIN:DAYLIGHT
DTSTART:20260329T030000
TZOFFSETFROM:+0100
TZOFFSETTO:+0200
TZNAME:CEST
END:DAYLIGHT
END:VTIMEZONE
END:VCALENDAR