BEGIN:VCALENDAR
VERSION:2.0
PRODID:-//wp-events-plugin.com//7.2.3.1//EN
TZID:Europe/Berlin
X-WR-TIMEZONE:Europe/Berlin
BEGIN:VEVENT
UID:5792@moin-kirche.de
DTSTART;TZID=Europe/Berlin:20261201T200000
DTEND;TZID=Europe/Berlin:20261201T200000
DTSTAMP:20251128T212055Z
URL:https://www.moin-kirche.de/veranstaltungen/frauentreff-2010-2025-11-04
 -2025-12-02-2026-01-06-2026-02-03-2026-03-03-2026-04-07-2026-05-05-2026-06
 -02-2026-07-07-2026-08-04-2026-09-01-2026-10-06-2026-11-03-2026-12-01/
SUMMARY:Frauentreff 2010
DESCRIPTION:Weitere Informationen hier: https://www.moin-kirche.de/frauentr
 eff-2010/
ATTACH;FMTTYPE=image/jpeg:https://www.moin-kirche.de/wp-content/uploads/20
 25/11/frauentreff2025_800x600.jpg
CATEGORIES:Frauen,Gruppen/Gremien
LOCATION:Hermann-Lange-Haus Leer\, Saarstraße 15\, Leer\, 26789\, Deutschl
 and
X-APPLE-STRUCTURED-LOCATION;VALUE=URI;X-ADDRESS=Saarstraße 15\, Leer\, 267
 89\, Deutschland;X-APPLE-RADIUS=100;X-TITLE=Hermann-Lange-Haus Leer:geo:0,
 0
END:VEVENT
BEGIN:VTIMEZONE
TZID:Europe/Berlin
X-LIC-LOCATION:Europe/Berlin
BEGIN:STANDARD
DTSTART:20261025T020000
TZOFFSETFROM:+0200
TZOFFSETTO:+0100
TZNAME:CET
END:STANDARD
END:VTIMEZONE
END:VCALENDAR